BEGIN:VCALENDAR
VERSION:2.0
PRODID:-//wp-events-plugin.com//7.2.3.1//EN
BEGIN:VEVENT
UID:69@spz.net.ua
DTSTART;VALUE=DATE:20190405
DTEND;VALUE=DATE:20190408
DTSTAMP:20190104T130953Z
URL:https://spz.net.ua/events/osnovni-rekolektsii-iv-frankivsk/
SUMMARY:Основні реколекції (Ів-Франківськ)
DESCRIPTION:Запрошуємо на реколекції для подр
 ужніх пар (Івано-Франківський осередок с
 пільноти Подружні зустрічі)\nКонтактні о
 соби: Карпові Олег і Світлана (0673430780\; 050213
 2830)
CATEGORIES:Основні реколекції
LOCATION:Реколекційний дім редемптористів\, 
 УГКЦ\, вул.Героїв Майдану\, 6\, Яремче\, Ukraine
GEO:48.42816007825436;24.563400743438706
X-APPLE-STRUCTURED-LOCATION;VALUE=URI;X-ADDRESS=вул.Героїв Май
 дану\, 6\, Яремче\, Ukraine;X-APPLE-RADIUS=100;X-TITLE=Реко
 лекційний дім редемптористів\, УГКЦ:geo:48.4
 2816007825436,24.563400743438706
END:VEVENT
END:VCALENDAR