BEGIN:VCALENDAR
VERSION:2.0
PRODID:-//wp-events-plugin.com//7.2.3.1//EN
BEGIN:VEVENT
UID:67@spz.net.ua
DTSTART;VALUE=DATE:20191018
DTEND;VALUE=DATE:20191021
DTSTAMP:20190303T182153Z
URL:https://spz.net.ua/events/osnovni-rekolektsii-l-viv-2/
SUMMARY:Основні реколекції (Львів)
DESCRIPTION:Запрошуємо на реколекції для подр
 ужніх пар (Львівський осередок спільнот
 и Подружні зустрічі)\n\nКонтакт: Андрюшко 
 Богдан і Таня 067-975- 69-95 або 097-582- 60-16
CATEGORIES:Основні реколекції
LOCATION:Монастир редемптористів св. Альфонс
 а\, вул. Замарстинівська\, 225\, Львів\, Ukraine
GEO:49.871883;24.016200600000047
X-APPLE-STRUCTURED-LOCATION;VALUE=URI;X-ADDRESS=вул. Замарстин
 івська\, 225\, Львів\, Ukraine;X-APPLE-RADIUS=100;X-TITLE=Мо
 настир редемптористів св. Альфонса:geo:49.87
 1883,24.016200600000047
END:VEVENT
END:VCALENDAR