BEGIN:VCALENDAR
VERSION:2.0
PRODID:-//wp-events-plugin.com//7.2.3.1//EN
BEGIN:VEVENT
UID:59@spz.net.ua
DTSTART;VALUE=DATE:20190412
DTEND;VALUE=DATE:20190415
DTSTAMP:20190104T120948Z
URL:https://spz.net.ua/events/osnovni-rekolektsii-ternopil-2/
SUMMARY:Основні реколекції (Тернопіль)
DESCRIPTION:Реколекції проводить Тернопільсь
 кий осередок спільноти Подружні зустріч
 і\n\nМісце: с.Зарваниця \, реколекційний бу
 динок біля Собору Зарваницької Божої Ма
 тері.\n\nКонтактні особи: Ігор\, Софія (0973843
 221\; 0975852195)
CATEGORIES:Основні реколекції
LOCATION:Собор Зарваницької Богородиці\, соб
 ор\, Зарваниця\, 48143\, Тернопільська обл.\, U
 kraine
GEO:49.22830709999999;25.351804300000026
X-APPLE-STRUCTURED-LOCATION;VALUE=URI;X-ADDRESS=собор\, Зарвани
 ця\, 48143\, Тернопільська обл.\, Ukraine;X-APPLE-RADIUS
 =100;X-TITLE=Собор Зарваницької Богородиці:geo:
 49.22830709999999,25.351804300000026
END:VEVENT
END:VCALENDAR