BEGIN:VCALENDAR
VERSION:2.0
PRODID:-//wp-events-plugin.com//7.2.3.1//EN
BEGIN:VEVENT
UID:57@spz.net.ua
DTSTART:20181214T160000Z
DTEND:20181216T130000Z
DTSTAMP:20181106T200914Z
URL:https://spz.net.ua/events/osnovni-rekolektsii-zarvanytsia-2/
SUMMARY:Основні реколекції (Зарваниця)
DESCRIPTION:Спільнота Подружні зустрічі запро
 шує на\n\nРеколекції для подружніх пар\, я
 кі відбудуться\n\n 14-16 грудня 2018 р.Б у Марі
 йському духовному центрі «Зарваниця».\n\n
 До участі запрошуються обов’язково раз
 ом чоловік і дружина. Отримати додаткову
  інформацію та записатись на реколекції 
 можна за телефоном 097 585 21 95 (Софія).\n\nНа П
 одружні Зустрічі приходять люди різного
  віку\, з різним терміном досвіду в подру
 жньому житті  і різною мірою набожності\
 , з різними почуттями\, які пов'язують або
  розділяють подружжя. \n\nМи запрошуємо ко
 жну пару\, яка прагне\, щоб їхнє спільне ж
 иття безперервно розвивалося. 
ATTACH;FMTTYPE=image/jpeg:https://spz.net.ua/wp-content/uploads/2018/10/12
 .jpg
CATEGORIES:Основні реколекції
LOCATION:Собор Зарваницької Богородиці\, соб
 ор\, Зарваниця\, 48143\, Тернопільська обл.\, U
 kraine
GEO:49.22830709999999;25.351804300000026
X-APPLE-STRUCTURED-LOCATION;VALUE=URI;X-ADDRESS=собор\, Зарвани
 ця\, 48143\, Тернопільська обл.\, Ukraine;X-APPLE-RADIUS
 =100;X-TITLE=Собор Зарваницької Богородиці:geo:
 49.22830709999999,25.351804300000026
END:VEVENT
END:VCALENDAR