BEGIN:VCALENDAR
VERSION:2.0
PRODID:-//wp-events-plugin.com//7.2.3.1//EN
BEGIN:VEVENT
UID:56@spz.net.ua
DTSTART:20181130T160000Z
DTEND:20181202T130000Z
DTSTAMP:20181106T200431Z
URL:https://spz.net.ua/events/osnovni-rekolektsii-zarvanytsia/
SUMMARY:Основні реколекції (Зарваниця)
DESCRIPTION:Спільнота Подружні зустрічі запро
 шує на\n\nРеколекції для подружніх пар\, я
 кі відбудуться\n\n30 листопада-2 грудня  та
  14-16 грудня 2018 р.Б у Марійському духовном
 у центрі «Зарваниця».\n\nДо участі запрош
 уються обов’язково разом чоловік і друж
 ина. Отримати додаткову інформацію та за
 писатись на реколекції можна на сайті аб
 о за телефоном 097 585 21 95 (Софія).\n\nНа Подру
 жні Зустрічі приходять люди різного вік
 у\, з різним терміном досвіду в подружньо
 му житті  і різною мірою набожності\, з р
 ізними почуттями\, які пов'язують або роз
 діляють подружжя. \n\nМи запрошуємо кожну 
 пару\, яка прагне\, щоб їхнє спільне життя
  безперервно розвивалося. 
ATTACH;FMTTYPE=image/jpeg:https://spz.net.ua/wp-content/uploads/2018/10/12
 .jpg
CATEGORIES:Основні реколекції
LOCATION:Собор Зарваницької Богородиці\, соб
 ор\, Зарваниця\, 48143\, Тернопільська обл.\, U
 kraine
GEO:49.22830709999999;25.351804300000026
X-APPLE-STRUCTURED-LOCATION;VALUE=URI;X-ADDRESS=собор\, Зарвани
 ця\, 48143\, Тернопільська обл.\, Ukraine;X-APPLE-RADIUS
 =100;X-TITLE=Собор Зарваницької Богородиці:geo:
 49.22830709999999,25.351804300000026
END:VEVENT
END:VCALENDAR