BEGIN:VCALENDAR
VERSION:2.0
PRODID:-//wp-events-plugin.com//7.2.3.1//EN
BEGIN:VEVENT
UID:2@spz.net.ua
DTSTART;VALUE=DATE:20180223
DTEND;VALUE=DATE:20180226
DTSTAMP:20180207T160758Z
URL:https://spz.net.ua/events/osnovni-rekolektsiji-2/
SUMMARY:Основні реколекції (Тернопіль)
DESCRIPTION:
CATEGORIES:Основні реколекції
LOCATION:Собор Зарваницької Богородиці\, соб
 ор\, Зарваниця\, 48143\, Тернопільська обл.\, U
 kraine
GEO:49.22830709999999;25.351804300000026
X-APPLE-STRUCTURED-LOCATION;VALUE=URI;X-ADDRESS=собор\, Зарвани
 ця\, 48143\, Тернопільська обл.\, Ukraine;X-APPLE-RADIUS
 =100;X-TITLE=Собор Зарваницької Богородиці:geo:
 49.22830709999999,25.351804300000026
END:VEVENT
END:VCALENDAR