BEGIN:VCALENDAR
VERSION:2.0
PRODID:-//wp-events-plugin.com//7.2.3.1//EN
BEGIN:VEVENT
UID:207@spz.net.ua
DTSTART:20251121T150000Z
DTEND:20251123T120000Z
DTSTAMP:20251017T060902Z
URL:https://spz.net.ua/events/rekolektsii-dlia-podruzhnikh-par-11-2025-kyi
 v/
SUMMARY:Реколекції для подружніх пар 11.2025 - К
 иївський осередок
DESCRIPTION:Кохання потребує часу та уваги!\n\nЯ
 кщо буденність охолоджує почуття\, час з
 робити паузу.\nЗапрошуємо подружні пари 
 на виїзні реколекції – 2 дні для вашого ш
 любу\, наповнені спокоєм\, глибокими розд
 умами та духовним оновленням. Обов'язков
 а участь чоловіка і дружини протягом усі
 єї програми.\n\n 21-23 листопада\n\n Ворзель\,
  реколекційний дім – подалі від міської 
 метушні\n\n У програмі: Служба Божа\, Спов
 ідь\, робота в парі\, відновлення близько
 сті\n\nЗнову відкрийте одне одного та зап
 аліть іскру любові!\n\nДодаткова інформац
 ія за телефоном: 067 9491360 Оксана\n\n&nbsp\;
ATTACH;FMTTYPE=image/jpeg:https://spz.net.ua/wp-content/uploads/2025/10/re
 k-kyiv-11.2025h3.png
CATEGORIES:Основні реколекції
LOCATION:Вища духовна семінарія Пресвятого С
 ерця Ісуса\, Тюльпанова вул. 1\, Ворзель\, 08
 296\, Київська обл.\, Ukraine
X-APPLE-STRUCTURED-LOCATION;VALUE=URI;X-ADDRESS=Тюльпанова вул
 . 1\, Ворзель\, 08296\, Київська обл.\, Ukraine;X-APPLE-
 RADIUS=100;X-TITLE=Вища духовна семінарія Пресвя
 того Серця Ісуса:geo:0,0
END:VEVENT
END:VCALENDAR