BEGIN:VCALENDAR
VERSION:2.0
PRODID:-//wp-events-plugin.com//7.2.3.1//EN
BEGIN:VEVENT
UID:205@spz.net.ua
DTSTART:20251128T150000Z
DTEND:20251130T120000Z
DTSTAMP:20250903T175758Z
URL:https://spz.net.ua/events/rekolektsii-dlia-podruzhnikh-par-11-2025-onl
 ayn-v-zoom/
SUMMARY:Реколекції для подружніх пар 11.2025 он
 лайн в Zoom
DESCRIPTION:Реколекції для подружніх пар 11.2025 
 онлайн в Zoom
ATTACH;FMTTYPE=image/jpeg:https://spz.net.ua/wp-content/uploads/2025/09/re
 k-on-2025o-scaled.jpg
CATEGORIES:Основні реколекції
END:VEVENT
END:VCALENDAR