BEGIN:VCALENDAR
VERSION:2.0
PRODID:-//wp-events-plugin.com//7.2.3.1//EN
BEGIN:VEVENT
UID:55@spz.net.ua
DTSTART:20181116T160000Z
DTEND:20181118T130000Z
DTSTAMP:20181020T174843Z
URL:https://spz.net.ua/events/rekolektsii-dlia-podruzhnikh-par-u-zarvanyts
 i/
SUMMARY:Основні реколекції  (Зарваниця)
DESCRIPTION:Спільнота "Подружні зустрічі" запр
 ошує на Реколекції для подружніх пар\, я
 кі відбудуться 16-18 листопада\, 30 листопа
 да-2 грудня  та 14-16 грудня 2018 р.Б у Марійсь
 кому духовному центрі «Зарваниця».\n\n\n\nД
 о участі запрошуються обов’язково разо
 м чоловік і дружина. Отримати додаткову 
 інформацію та записатись на реколекції 
 можна на сайті або  за телефоном 097 585 21 95
  (Софія).\n\nНа Подружні Зустрічі приходят
 ь люди різного віку\, з різним терміном д
 освіду в подружньому житті  і різною мір
 ою набожності\, з різними почуттями\, які 
 пов'язують або розділяють подружжя. \n\nМи
  запрошуємо кожну пару\, яка прагне\, щоб 
 їхнє спільне життя безперервно розвивал
 ося. 
ATTACH;FMTTYPE=image/jpeg:https://spz.net.ua/wp-content/uploads/2018/10/12
 .jpg
CATEGORIES:Основні реколекції
LOCATION:Собор Зарваницької Богородиці\, соб
 ор\, Зарваниця\, 48143\, Тернопільська обл.\, U
 kraine
GEO:49.22830709999999;25.351804300000026
X-APPLE-STRUCTURED-LOCATION;VALUE=URI;X-ADDRESS=собор\, Зарвани
 ця\, 48143\, Тернопільська обл.\, Ukraine;X-APPLE-RADIUS
 =100;X-TITLE=Собор Зарваницької Богородиці:geo:
 49.22830709999999,25.351804300000026
END:VEVENT
END:VCALENDAR