BEGIN:VCALENDAR
VERSION:2.0
PRODID:-//wp-events-plugin.com//7.2.3.1//EN
BEGIN:VEVENT
UID:158@spz.net.ua
DTSTART:20240109T170000Z
DTEND:20240109T193000Z
DTSTAMP:20231128T141206Z
URL:https://spz.net.ua/events/vechory-dlia-zakokhanykh-zyma-2024/
SUMMARY:Вечори для закоханих - зима 2024
DESCRIPTION:\n\nВечори для закоханих онлайн січ
 ень - березень 2024. Після завершення прогр
 ами Вечорів буде виданий сертифікат\, як
 ий підтверджує проходження передшлюбни
 х наук для наречених.\n\nВи дізнаєтесь на 9
  онлайн-зустрічах:\n\n 	як зберегти любов\n 
 	як вести діалог\, не ранячи одне одного\n 
 	про Таїнство шлюбу та підготовку до ньо
 го\n 	про виклики подружжя та шляхи їх ефе
 ктивного подолання\n\nЗапрошуємо пари\, я
 кі готуються до шлюбу\, та пари\, які тіль
 ки зустрічаються.\n\nПопередня реєстраці
 я на Вечори для закоханих - зима 2024 за пос
 иланням
CATEGORIES:Вечори для закоханих
END:VEVENT
END:VCALENDAR