BEGIN:VCALENDAR
VERSION:2.0
PRODID:-//wp-events-plugin.com//7.2.3.1//EN
BEGIN:VEVENT
UID:35@spz.net.ua
DTSTART;VALUE=DATE:20180412
DTEND;VALUE=DATE:20180413
DTSTAMP:20190405T095250Z
URL:https://spz.net.ua/events/vechory-dlya-zakohanyh-kyjiv-2018-04-12/
SUMMARY:Вечори для закоханих (Київ)
DESCRIPTION:\nУвага! Ми переносимо дату проведе
 ння Вечорів для закоханих у зв'язку з мал
 ою кількістю зареєстрованих пар. Про нов
 у дату початку повідомимо пізніше - слід
 куйте за оголошеннями.\nЗ 12 квітня 2018 рок
 у у храмі св. Василія Великого (Львівськ
 а площа) розпочинаються Вечори для зако
 ханих.\n\nЗапрошуються всі пари\, які тіль
 ки зустрічаються\, або вже вирішили одру
 житися\, або ті\, які ще навіть не задумув
 ались про одруження.\n\nВечори для закоха
 них - прекрасна можливість розпізнати св
 оє покликання\, поглибити свої стосунки\,
  а\, можливо\, і прийняти рішення на майбу
 тнє. У Вечорах можуть брати участь пари з
 акоханих незалежно від конфесійної прин
 алежності.\n\nВечори для закоханих - це 9 з
 устрічей тривалістю 2-2\,5 години\, які про
 водяться раз на тиждень\, у четвер\, з обо
 в'язковою участю обидвох закоханих.\n\nПо
 чаток о 19.00.\nБільше інфо про Вечори для з
 акоханих [...]
ATTACH;FMTTYPE=image/jpeg:https://spz.net.ua/wp-content/uploads/2018/03/ve
 chory.jpg
CATEGORIES:Вечори для закоханих
LOCATION:Церква св.Василія Великого на Львів
 ській площі\, Вознесенський узвіз\, 7\, Киї
 в\, Ukraine
GEO:50.457821;30.505685099999937
X-APPLE-STRUCTURED-LOCATION;VALUE=URI;X-ADDRESS=Вознесенський 
 узвіз\, 7\, Київ\, Ukraine;X-APPLE-RADIUS=100;X-TITLE=Церкв
 а св.Василія Великого на Львівській площ
 і:geo:50.457821,30.505685099999937
END:VEVENT
END:VCALENDAR